BEGIN:VCALENDAR
VERSION:2.0
PRODID:-//Fyfield Parish Council//Meeting Calendar//EN
CALSCALE:GREGORIAN
METHOD:PUBLISH
BEGIN:VEVENT
UID:70683-20261207@fyfieldparishcouncil.gov.uk
DTSTAMP:20260419T150022Z
DTSTART;VALUE=DATE:20261207
DTEND;VALUE=DATE:20261208
SUMMARY:Monday 7th December 2026
DESCRIPTION:Full Council Meeting\nView details: https://fyfieldparishcouncil.gov.uk/meetings/monday-7th-december-2026/
URL:https://fyfieldparishcouncil.gov.uk/meetings/monday-7th-december-2026/
END:VEVENT
END:VCALENDAR
