BEGIN:VCALENDAR
VERSION:2.0
PRODID:-//Fyfield Parish Council//Meeting Calendar//EN
CALSCALE:GREGORIAN
METHOD:PUBLISH
BEGIN:VEVENT
UID:70682-20261102@fyfieldparishcouncil.gov.uk
DTSTAMP:20260419T150021Z
DTSTART;VALUE=DATE:20261102
DTEND;VALUE=DATE:20261103
SUMMARY:Monday 2nd November 2026
DESCRIPTION:Full Council Meeting\nView details: https://fyfieldparishcouncil.gov.uk/meetings/monday-2nd-november-2026/
URL:https://fyfieldparishcouncil.gov.uk/meetings/monday-2nd-november-2026/
END:VEVENT
END:VCALENDAR
