BEGIN:VCALENDAR
VERSION:2.0
PRODID:-//Fyfield Parish Council//Meeting Calendar//EN
CALSCALE:GREGORIAN
METHOD:PUBLISH
BEGIN:VEVENT
UID:70681-20261005@fyfieldparishcouncil.gov.uk
DTSTAMP:20260419T150021Z
DTSTART;VALUE=DATE:20261005
DTEND;VALUE=DATE:20261006
SUMMARY:Monday 5th October 2026
DESCRIPTION:Full Council Meeting\nView details: https://fyfieldparishcouncil.gov.uk/meetings/monday-5th-october-2026/
URL:https://fyfieldparishcouncil.gov.uk/meetings/monday-5th-october-2026/
END:VEVENT
END:VCALENDAR
