BEGIN:VCALENDAR
VERSION:2.0
PRODID:-//Fyfield Parish Council//Meeting Calendar//EN
CALSCALE:GREGORIAN
METHOD:PUBLISH
BEGIN:VEVENT
UID:70679-20260803@fyfieldparishcouncil.gov.uk
DTSTAMP:20260419T134800Z
DTSTART;VALUE=DATE:20260803
DTEND;VALUE=DATE:20260804
SUMMARY:Monday 3rd August 2026
DESCRIPTION:Full Council Meeting\nView details: https://fyfieldparishcouncil.gov.uk/meetings/monday-3rd-august-2026/
URL:https://fyfieldparishcouncil.gov.uk/meetings/monday-3rd-august-2026/
END:VEVENT
END:VCALENDAR
