BEGIN:VCALENDAR
VERSION:2.0
PRODID:-//Fyfield Parish Council//Meeting Calendar//EN
CALSCALE:GREGORIAN
METHOD:PUBLISH
BEGIN:VEVENT
UID:70674-20260202@fyfieldparishcouncil.gov.uk
DTSTAMP:20260419T133648Z
DTSTART;VALUE=DATE:20260202
DTEND;VALUE=DATE:20260203
SUMMARY:Monday 2nd February 2026
DESCRIPTION:Full Council Meeting\nView details: https://fyfieldparishcouncil.gov.uk/meetings/meeting-name-here/
URL:https://fyfieldparishcouncil.gov.uk/meetings/meeting-name-here/
END:VEVENT
END:VCALENDAR
