BEGIN:VCALENDAR
VERSION:2.0
PRODID:-//Fyfield Parish Council//Meeting Calendar//EN
CALSCALE:GREGORIAN
METHOD:PUBLISH
BEGIN:VEVENT
UID:70506-20251006@fyfieldparishcouncil.gov.uk
DTSTAMP:20260419T162218Z
DTSTART;VALUE=DATE:20251006
DTEND;VALUE=DATE:20251007
SUMMARY:Council Meeting – 6 October 2025
DESCRIPTION:Full Council Meeting\nView details: https://fyfieldparishcouncil.gov.uk/meetings/council-meeting-6-october-2025/
URL:https://fyfieldparishcouncil.gov.uk/meetings/council-meeting-6-october-2025/
END:VEVENT
END:VCALENDAR
