BEGIN:VCALENDAR
VERSION:2.0
PRODID:-//Fyfield Parish Council//Meeting Calendar//EN
CALSCALE:GREGORIAN
METHOD:PUBLISH
BEGIN:VEVENT
UID:70502-20230513@fyfieldparishcouncil.gov.uk
DTSTAMP:20260419T181348Z
DTSTART;VALUE=DATE:20230513
DTEND;VALUE=DATE:20230514
SUMMARY:Annual Council Meeting – 13 May 2023
DESCRIPTION:Annual Parish Meeting\nView details: https://fyfieldparishcouncil.gov.uk/meetings/annual-council-meeting-13-may-2023/
URL:https://fyfieldparishcouncil.gov.uk/meetings/annual-council-meeting-13-may-2023/
END:VEVENT
END:VCALENDAR
