BEGIN:VCALENDAR
VERSION:2.0
PRODID:-//Fyfield Parish Council//Meeting Calendar//EN
CALSCALE:GREGORIAN
METHOD:PUBLISH
BEGIN:VEVENT
UID:70489-20230202@fyfieldparishcouncil.gov.uk
DTSTAMP:20260419T162842Z
DTSTART;VALUE=DATE:20230202
DTEND;VALUE=DATE:20230203
SUMMARY:Council Meetings – 2023
DESCRIPTION:Full Council Meeting\nView details: https://fyfieldparishcouncil.gov.uk/meetings/council-meetings-2023/
URL:https://fyfieldparishcouncil.gov.uk/meetings/council-meetings-2023/
END:VEVENT
END:VCALENDAR
