BEGIN:VCALENDAR
VERSION:2.0
PRODID:-//Fyfield Parish Council//Meeting Calendar//EN
CALSCALE:GREGORIAN
METHOD:PUBLISH
BEGIN:VEVENT
UID:70462-20250901@fyfieldparishcouncil.gov.uk
DTSTAMP:20260419T162307Z
DTSTART;VALUE=DATE:20250901
DTEND;VALUE=DATE:20250902
SUMMARY:Council Meeting – 1 September 2025
DESCRIPTION:Full Council Meeting\nView details: https://fyfieldparishcouncil.gov.uk/meetings/council-meeting-1-september-2025/
URL:https://fyfieldparishcouncil.gov.uk/meetings/council-meeting-1-september-2025/
END:VEVENT
END:VCALENDAR
