BEGIN:VCALENDAR
VERSION:2.0
PRODID:-//Fyfield Parish Council//Meeting Calendar//EN
CALSCALE:GREGORIAN
METHOD:PUBLISH
BEGIN:VEVENT
UID:70459-20250804@fyfieldparishcouncil.gov.uk
DTSTAMP:20260419T180719Z
DTSTART;VALUE=DATE:20250804
DTEND;VALUE=DATE:20250805
SUMMARY:Council Meeting – 4 August 2025
DESCRIPTION:Full Council Meeting\nView details: https://fyfieldparishcouncil.gov.uk/meetings/council-meeting-4-august-2025/
URL:https://fyfieldparishcouncil.gov.uk/meetings/council-meeting-4-august-2025/
END:VEVENT
END:VCALENDAR
