BEGIN:VCALENDAR
VERSION:2.0
PRODID:-//Fyfield Parish Council//Meeting Calendar//EN
CALSCALE:GREGORIAN
METHOD:PUBLISH
BEGIN:VEVENT
UID:70453-20250512@fyfieldparishcouncil.gov.uk
DTSTAMP:20260419T180719Z
DTSTART;VALUE=DATE:20250512
DTEND;VALUE=DATE:20250513
SUMMARY:Annual Council Meeting – 12 May 2025
DESCRIPTION:Annual Parish Meeting\nView details: https://fyfieldparishcouncil.gov.uk/meetings/annnual-council-meeting-12-may-2025/
URL:https://fyfieldparishcouncil.gov.uk/meetings/annnual-council-meeting-12-may-2025/
END:VEVENT
END:VCALENDAR
