BEGIN:VCALENDAR
VERSION:2.0
PRODID:-//Fyfield Parish Council//Meeting Calendar//EN
CALSCALE:GREGORIAN
METHOD:PUBLISH
BEGIN:VEVENT
UID:70450-20250407@fyfieldparishcouncil.gov.uk
DTSTAMP:20260419T181102Z
DTSTART;VALUE=DATE:20250407
DTEND;VALUE=DATE:20250408
SUMMARY:Council Meeting – 7 April 2025
DESCRIPTION:Full Council Meeting\nView details: https://fyfieldparishcouncil.gov.uk/meetings/council-meeting-7-april-2025/
URL:https://fyfieldparishcouncil.gov.uk/meetings/council-meeting-7-april-2025/
END:VEVENT
END:VCALENDAR
