BEGIN:VCALENDAR
VERSION:2.0
PRODID:-//Fyfield Parish Council//Meeting Calendar//EN
CALSCALE:GREGORIAN
METHOD:PUBLISH
BEGIN:VEVENT
UID:70446-20250303@fyfieldparishcouncil.gov.uk
DTSTAMP:20260419T180934Z
DTSTART;VALUE=DATE:20250303
DTEND;VALUE=DATE:20250304
SUMMARY:Council Meeting – 3 March 2025
DESCRIPTION:Full Council Meeting\nView details: https://fyfieldparishcouncil.gov.uk/meetings/council-meeting-3-march-2025/
URL:https://fyfieldparishcouncil.gov.uk/meetings/council-meeting-3-march-2025/
END:VEVENT
END:VCALENDAR
