BEGIN:VCALENDAR
VERSION:2.0
PRODID:-//Fyfield Parish Council//Meeting Calendar//EN
CALSCALE:GREGORIAN
METHOD:PUBLISH
BEGIN:VEVENT
UID:70443-20250203@fyfieldparishcouncil.gov.uk
DTSTAMP:20260419T163335Z
DTSTART;VALUE=DATE:20250203
DTEND;VALUE=DATE:20250204
SUMMARY:Council Meeting – 3 February 2025
DESCRIPTION:Full Council Meeting\nView details: https://fyfieldparishcouncil.gov.uk/meetings/council-meeting-3-february-2025/
URL:https://fyfieldparishcouncil.gov.uk/meetings/council-meeting-3-february-2025/
END:VEVENT
END:VCALENDAR
