BEGIN:VCALENDAR
VERSION:2.0
PRODID:-//Fyfield Parish Council//Meeting Calendar//EN
CALSCALE:GREGORIAN
METHOD:PUBLISH
BEGIN:VEVENT
UID:70440-20250106@fyfieldparishcouncil.gov.uk
DTSTAMP:20260419T162610Z
DTSTART;VALUE=DATE:20250106
DTEND;VALUE=DATE:20250107
SUMMARY:Council Meeting – 6 January 2025
DESCRIPTION:Full Council Meeting\nView details: https://fyfieldparishcouncil.gov.uk/meetings/council-meeting-6-january-2025/
URL:https://fyfieldparishcouncil.gov.uk/meetings/council-meeting-6-january-2025/
END:VEVENT
END:VCALENDAR
